BEGIN:VCALENDAR
VERSION:2.0
PRODID:-//Golf South - ECPv5.5.0.1//NONSGML v1.0//EN
CALSCALE:GREGORIAN
METHOD:PUBLISH
X-WR-CALNAME:Golf South
X-ORIGINAL-URL:http://www.golfsouth.co.uk
X-WR-CALDESC:Events for Golf South
BEGIN:VTIMEZONE
TZID:UTC
BEGIN:STANDARD
TZOFFSETFROM:+0000
TZOFFSETTO:+0000
TZNAME:UTC
DTSTART:20150101T000000
END:STANDARD
END:VTIMEZONE
BEGIN:VEVENT
DTSTART;VALUE=DATE:20150629
DTEND;VALUE=DATE:20150704
DTSTAMP:20260423T082451
CREATED:20150305T113411Z
LAST-MODIFIED:20150305T113411Z
UID:13133-1435536000-1435967999@www.golfsouth.co.uk
SUMMARY:Midlands North County Match Week
DESCRIPTION:
URL:http://www.golfsouth.co.uk/event/midlands-north-county-match-week/
LOCATION:Enville GC\, United Kingdom
CATEGORIES:National
END:VEVENT
END:VCALENDAR