BEGIN:VCALENDAR
VERSION:2.0
PRODID:-//Golf South - ECPv5.5.0.1//NONSGML v1.0//EN
CALSCALE:GREGORIAN
METHOD:PUBLISH
X-WR-CALNAME:Golf South
X-ORIGINAL-URL:http://www.golfsouth.co.uk
X-WR-CALDESC:Events for Golf South
BEGIN:VTIMEZONE
TZID:UTC
BEGIN:STANDARD
TZOFFSETFROM:+0000
TZOFFSETTO:+0000
TZNAME:UTC
DTSTART:20150101T000000
END:STANDARD
END:VTIMEZONE
BEGIN:VEVENT
DTSTART;VALUE=DATE:20150707
DTEND;VALUE=DATE:20150712
DTSTAMP:20260422T215125
CREATED:20150305T121610Z
LAST-MODIFIED:20150305T121714Z
UID:13144-1436227200-1436659199@www.golfsouth.co.uk
SUMMARY:European Ladies' Team Championshps
DESCRIPTION:
URL:http://www.golfsouth.co.uk/event/european-ladies-team-championshps/
LOCATION:Helsingor GC\, Denmark
CATEGORIES:International
END:VEVENT
END:VCALENDAR